BEGIN:VCALENDAR
VERSION:2.0
PRODID:-//San Diego Woman’s Club - ECPv6.15.1.1//NONSGML v1.0//EN
CALSCALE:GREGORIAN
METHOD:PUBLISH
X-WR-CALNAME:San Diego Woman’s Club
X-ORIGINAL-URL:https://sandiegowomansclub.org
X-WR-CALDESC:Events for San Diego Woman’s Club
REFRESH-INTERVAL;VALUE=DURATION:PT1H
X-Robots-Tag:noindex
X-PUBLISHED-TTL:PT1H
BEGIN:VTIMEZONE
TZID:America/Los_Angeles
BEGIN:DAYLIGHT
TZOFFSETFROM:-0800
TZOFFSETTO:-0700
TZNAME:PDT
DTSTART:20190310T100000
END:DAYLIGHT
BEGIN:STANDARD
TZOFFSETFROM:-0700
TZOFFSETTO:-0800
TZNAME:PST
DTSTART:20191103T090000
END:STANDARD
BEGIN:DAYLIGHT
TZOFFSETFROM:-0800
TZOFFSETTO:-0700
TZNAME:PDT
DTSTART:20200308T100000
END:DAYLIGHT
BEGIN:STANDARD
TZOFFSETFROM:-0700
TZOFFSETTO:-0800
TZNAME:PST
DTSTART:20201101T090000
END:STANDARD
BEGIN:DAYLIGHT
TZOFFSETFROM:-0800
TZOFFSETTO:-0700
TZNAME:PDT
DTSTART:20210314T100000
END:DAYLIGHT
BEGIN:STANDARD
TZOFFSETFROM:-0700
TZOFFSETTO:-0800
TZNAME:PST
DTSTART:20211107T090000
END:STANDARD
END:VTIMEZONE
BEGIN:VEVENT
DTSTART;TZID=America/Los_Angeles:20210615T120000
DTEND;TZID=America/Los_Angeles:20210615T140000
DTSTAMP:20260423T013850
CREATED:20210604T194700Z
LAST-MODIFIED:20210604T202700Z
UID:429-1623758400-1623765600@sandiegowomansclub.org
SUMMARY:GENERAL MEETING on ZOOM
DESCRIPTION:
URL:https://sandiegowomansclub.org/event/general-meeting/
END:VEVENT
BEGIN:VEVENT
DTSTART;TZID=America/Los_Angeles:20210608T190000
DTEND;TZID=America/Los_Angeles:20210608T200000
DTSTAMP:20260423T013850
CREATED:20210604T205157Z
LAST-MODIFIED:20210604T205158Z
UID:482-1623178800-1623182400@sandiegowomansclub.org
SUMMARY:ESO BOOK CLUB on ZOOM
DESCRIPTION:
URL:https://sandiegowomansclub.org/event/eso-book-club-on-zoom-3/
END:VEVENT
BEGIN:VEVENT
DTSTART;TZID=America/Los_Angeles:20210608T093000
DTEND;TZID=America/Los_Angeles:20210608T120000
DTSTAMP:20260423T013850
CREATED:20210604T200240Z
LAST-MODIFIED:20210604T201701Z
UID:437-1623144600-1623153600@sandiegowomansclub.org
SUMMARY:BOARD OF DIRECTORS MEETING on ZOOM
DESCRIPTION:
URL:https://sandiegowomansclub.org/event/board-of-directors-meeting-2/
END:VEVENT
BEGIN:VEVENT
DTSTART;TZID=America/Los_Angeles:20200225T020000
DTEND;TZID=America/Los_Angeles:20200225T040000
DTSTAMP:20260423T013850
CREATED:20200213T070622Z
LAST-MODIFIED:20200213T071001Z
UID:354-1582596000-1582603200@sandiegowomansclub.org
SUMMARY:BOOKS & VIEWS
DESCRIPTION:
URL:https://sandiegowomansclub.org/event/books-views/
END:VEVENT
BEGIN:VEVENT
DTSTART;TZID=America/Los_Angeles:20200218T040000
DTEND;TZID=America/Los_Angeles:20200218T060000
DTSTAMP:20260423T013850
CREATED:20200213T070803Z
LAST-MODIFIED:20200213T070804Z
UID:356-1581998400-1582005600@sandiegowomansclub.org
SUMMARY:GENERAL MEETING & TEA
DESCRIPTION:
URL:https://sandiegowomansclub.org/event/general-meeting-tea/
END:VEVENT
BEGIN:VEVENT
DTSTART;TZID=America/Los_Angeles:20190924T030000
DTEND;TZID=America/Los_Angeles:20190924T050000
DTSTAMP:20260423T013850
CREATED:20190828T011002Z
LAST-MODIFIED:20190828T011549Z
UID:319-1569294000-1569301200@sandiegowomansclub.org
SUMMARY:Books & Views Meeting
DESCRIPTION:$10
URL:https://sandiegowomansclub.org/event/books-views-meeting/
END:VEVENT
BEGIN:VEVENT
DTSTART;TZID=America/Los_Angeles:20190917T050000
DTEND;TZID=America/Los_Angeles:20190917T070000
DTSTAMP:20260423T013850
CREATED:20190823T033631Z
LAST-MODIFIED:20190823T033633Z
UID:277-1568696400-1568703600@sandiegowomansclub.org
SUMMARY:General Meeting and Tea
DESCRIPTION:Program: Assistance League of Greater San Diego
URL:https://sandiegowomansclub.org/event/general-meeting-and-tea/
LOCATION:Parq West\, 2557 Third Aveunue\, San Diego\, California\, 92103\, United States
ORGANIZER;CN="Karen":MAILTO:president@sandiegowomansclub.org
END:VEVENT
BEGIN:VEVENT
DTSTART;TZID=America/Los_Angeles:20190910T023000
DTEND;TZID=America/Los_Angeles:20190910T050000
DTSTAMP:20260423T013850
CREATED:20190823T041730Z
LAST-MODIFIED:20190823T041752Z
UID:295-1568082600-1568091600@sandiegowomansclub.org
SUMMARY:Board of Directors Meeting
DESCRIPTION:If you wish to speak to the Board of Directors about your Charity or Program\, please make arrangements at least one week prior to the meeting by emailing info@sandiegowomansclub.org or calling 619-648-0759.
URL:https://sandiegowomansclub.org/event/board-of-directors-meeting/
LOCATION:Parq West\, 2557 Third Avenue\, San Diego\, California\, 92103\, United States
ORGANIZER;CN="Sandy":MAILTO:info@sandiegowomansclub.org
END:VEVENT
BEGIN:VEVENT
DTSTART;TZID=America/Los_Angeles:20190715T023000
DTEND;TZID=America/Los_Angeles:20190715T060000
DTSTAMP:20260423T013850
CREATED:20190711T021402Z
LAST-MODIFIED:20190711T021404Z
UID:99-1563157800-1563170400@sandiegowomansclub.org
SUMMARY:DISTRICT MEETING
DESCRIPTION:
URL:https://sandiegowomansclub.org/event/district-meeting/
LOCATION:San Diego Woman’s Club 2557 3rd Avenue San Diego\, CA 92103 USA\, 2557 3rd Avenue\, San Diego\, CA\, 92103\, United States
ORGANIZER;CN="Karen":MAILTO:president@sandiegowomansclub.org
END:VEVENT
END:VCALENDAR